BEGIN:VCALENDAR
VERSION:2.0
CALSCALE:GREGORIAN
METHOD:PUBLISH
X-WR-TIMEZONE:Australia/Sydney
BEGIN:VTIMEZONE
TZID:Australia/Sydney
BEGIN:STANDARD
TZNAME:AEST
DTSTART:19700101T000000
TZOFFSETFROM:+1100
TZOFFSETTO:+1000
END:STANDARD
END:VTIMEZONE
BEGIN:VEVENT
DTSTART;TZID=Australia/Sydney:20260508
DTEND;TZID=Australia/Sydney:20260508
DTSTAMP:20260425T030914
UID:295
SUMMARY:Mothers&#039; Day Events
DESCRIPTION:




9:00am- Mothers&#039; Day Gift Stall for students ($2-$10)2:00pm-3:00pm- Mother&#039;s Day High TeaOur Mother&amp;rsquo;s Day High Tea is such a popular event andalways well attended, but it is too much work for just a couple of people toorganise. We are hoping to hold it on Friday 8th May from 2-3pm. This year we are calling out for extra assistance with setting up, decorating the hall, preparing food, organising the Bake Sale, coordinating a raffle, cleaning up and running the gift stall in the morning. If you can assist with any of these jobs please talk to Felicity in the office. Many hands make light work and you&amp;rsquo;re all Mums so we want everyone to enjoy the occasion.


SEQUENCE:0
STATUS:CONFIRMED
TRANSP:OPAQUE
END:VEVENT
END:VCALENDAR